BEGIN:VCALENDAR
VERSION:2.0
PRODID:-//Plone.org//NONSGML plone.app.event//EN
X-WR-TIMEZONE:US/Central
BEGIN:VEVENT
SUMMARY:Instruction on keyboard for those registered / 10:30\; 3:30 -5:00
DTSTART;TZID=US/Central:20090921T153000
DTEND;TZID=US/Central:20090921T170000
DTSTAMP:20260424T152016Z
UID:ff5037588694283737dc646c4838060b@saas_stack_varnish:6080
CREATED:20090822T183246Z
DESCRIPTION:Adults in the morning/ children after school
LAST-MODIFIED:20090822T183355Z
URL:https://www.valleymillslibrary.org/news-events/lib-cal/instruction-on-
 keyboard-for-those-registered-10-30-3-30-5-00
END:VEVENT
BEGIN:VTIMEZONE
TZID:US/Central
X-LIC-LOCATION:US/Central
BEGIN:DAYLIGHT
DTSTART:20090308T030000
TZNAME:CDT
TZOFFSETFROM:-0600
TZOFFSETTO:-0500
END:DAYLIGHT
END:VTIMEZONE
END:VCALENDAR
