BEGIN:VCALENDAR
VERSION:2.0
PRODID:-//Plone.org//NONSGML plone.app.event//EN
X-WR-TIMEZONE:US/Central
BEGIN:VEVENT
SUMMARY:Library Board Meeting - 7:00 p.m.
DTSTART;TZID=US/Central:20090721T190000
DTEND;TZID=US/Central:20090721T200000
DTSTAMP:20260424T134424Z
UID:287ae2cadb25a70f882e13b74d0606c0@saas_stack_varnish:6080
CONTACT:254-932-6370\, kathleen.hale@members.ctls.net
CREATED:20090717T234757Z
DESCRIPTION:Library Board Meeting
LAST-MODIFIED:20090717T235021Z
LOCATION:Library
URL:https://www.valleymillslibrary.org/news-events/lib-cal/library-board-m
 eeting-7-00-p-m
END:VEVENT
BEGIN:VTIMEZONE
TZID:US/Central
X-LIC-LOCATION:US/Central
BEGIN:DAYLIGHT
DTSTART:20090308T030000
TZNAME:CDT
TZOFFSETFROM:-0600
TZOFFSETTO:-0500
END:DAYLIGHT
END:VTIMEZONE
END:VCALENDAR
