BEGIN:VCALENDAR
VERSION:2.0
PRODID:-//Plone.org//NONSGML plone.app.event//EN
X-WR-TIMEZONE:US/Central
BEGIN:VEVENT
SUMMARY:Library closed for July 4th celebration in the park
DTSTART;TZID=US/Central:20090704T100000
DTEND;TZID=US/Central:20090704T150000
DTSTAMP:20260421T091124Z
UID:27266fd044bfef5ff987ab511bab0a11@saas_stack_varnish:6080
CREATED:20090620T192659Z
LAST-MODIFIED:20090620T192750Z
LOCATION:Library and the park
URL:https://www.valleymillslibrary.org/news-events/lib-cal/library-closed-
 for-july-4th-celebration-in-the-park
END:VEVENT
BEGIN:VTIMEZONE
TZID:US/Central
X-LIC-LOCATION:US/Central
BEGIN:DAYLIGHT
DTSTART:20090308T030000
TZNAME:CDT
TZOFFSETFROM:-0600
TZOFFSETTO:-0500
END:DAYLIGHT
END:VTIMEZONE
END:VCALENDAR
