BEGIN:VCALENDAR
VERSION:2.0
PRODID:-//Plone.org//NONSGML plone.app.event//EN
X-WR-TIMEZONE:US/Central
BEGIN:VEVENT
SUMMARY:Music program & instruction 10:30 and 1:30
DTSTART;TZID=US/Central:20090813T103000
DTEND;TZID=US/Central:20090813T113000
DTSTAMP:20260424T133307Z
UID:2487b976586068c453904c7a1774a5bf@saas_stack_varnish:6080
CONTACT:254-932-6370\, kathleen.hale@members.ctls.net
CREATED:20090804T194212Z
DESCRIPTION:Accidental sharps and flats  (and rag-time music of Scott Jopl
 in/ [on Broadway 2009]\nand the D major (2 sharps)
LAST-MODIFIED:20090809T213239Z
LOCATION:Library
URL:https://www.valleymillslibrary.org/news-events/lib-cal/music-program-i
 nstruction
END:VEVENT
BEGIN:VTIMEZONE
TZID:US/Central
X-LIC-LOCATION:US/Central
BEGIN:DAYLIGHT
DTSTART:20090308T030000
TZNAME:CDT
TZOFFSETFROM:-0600
TZOFFSETTO:-0500
END:DAYLIGHT
END:VTIMEZONE
END:VCALENDAR
