BEGIN:VCALENDAR
VERSION:2.0
PRODID:-//Plone.org//NONSGML plone.app.event//EN
X-WR-TIMEZONE:US/Central
BEGIN:VEVENT
SUMMARY:Musical Program 10:30 - 11:00
DTSTART;TZID=US/Central:20090723T103000
DTEND;TZID=US/Central:20090723T114500
DTSTAMP:20260424T134110Z
UID:7ab50bc1a4ee58ea292fe687afdb01b9@saas_stack_varnish:6080
CREATED:20090627T161705Z
DESCRIPTION:Music (10:30 - 11:00 / instruction 11:15-11:45 as each Thursda
 y)
LAST-MODIFIED:20090627T161718Z
URL:https://www.valleymillslibrary.org/news-events/lib-cal/musical-program
 -10-30-11-00-1
END:VEVENT
BEGIN:VTIMEZONE
TZID:US/Central
X-LIC-LOCATION:US/Central
BEGIN:DAYLIGHT
DTSTART:20090308T030000
TZNAME:CDT
TZOFFSETFROM:-0600
TZOFFSETTO:-0500
END:DAYLIGHT
END:VTIMEZONE
END:VCALENDAR
