BEGIN:VCALENDAR
VERSION:2.0
PRODID:-//Plone.org//NONSGML plone.app.event//EN
X-WR-TIMEZONE:US/Central
BEGIN:VEVENT
SUMMARY:Storytime 10:30 - 11:00
DTSTART;TZID=US/Central:20090721T103000
DTEND;TZID=US/Central:20090721T113000
DTSTAMP:20260420T083132Z
UID:faa6104e5f86dfded2c4826cd2597cb0@saas_stack_varnish:6080
CREATED:20090627T160918Z
LAST-MODIFIED:20090627T160927Z
URL:https://www.valleymillslibrary.org/news-events/lib-cal/storytime-10-30
 -11-00-2
END:VEVENT
BEGIN:VTIMEZONE
TZID:US/Central
X-LIC-LOCATION:US/Central
BEGIN:DAYLIGHT
DTSTART:20090308T030000
TZNAME:CDT
TZOFFSETFROM:-0600
TZOFFSETTO:-0500
END:DAYLIGHT
END:VTIMEZONE
END:VCALENDAR
