BEGIN:VCALENDAR
VERSION:2.0
PRODID:-//Plone.org//NONSGML plone.app.event//EN
X-WR-TIMEZONE:US/Central
BEGIN:VEVENT
SUMMARY:Opportunity Online meeting  --/ Hale & Wingate
DTSTART;TZID=US/Central:20091008T083000
DTEND;TZID=US/Central:20091009T210000
DTSTAMP:20260424T134130Z
UID:6a5f3848eedad38b2d0c7f46f471fed1@saas_stack_varnish:6080
CREATED:20091009T200119Z
DESCRIPTION:Funded  by the Bill & Melinda Gates Foundation / co-sponsored 
 by the Texas State Library & Archives Commission --- meetings with panel a
 nd round-table discussions & speakers about broadband
LAST-MODIFIED:20091009T200510Z
LOCATION:San Antonio at The Westin...
URL:https://www.valleymillslibrary.org/news-events/lib-cal/the-broadband-m
 eeting-hale-wingate
END:VEVENT
BEGIN:VTIMEZONE
TZID:US/Central
X-LIC-LOCATION:US/Central
BEGIN:DAYLIGHT
DTSTART:20090308T030000
TZNAME:CDT
TZOFFSETFROM:-0600
TZOFFSETTO:-0500
END:DAYLIGHT
END:VTIMEZONE
END:VCALENDAR
